BEGIN:VCALENDAR
VERSION:2.0
PRODID:-//Department Of Education//221853ee-197a-47d7-8b44-214bcf5fb96f
BEGIN:VTIMEZONE
TZID:Australia/Sydney
TZURL:http://tzurl.org/zoneinfo-outlook/Australia/Sydney
X-LIC-LOCATION:Australia/Sydney
BEGIN:STANDARD
TZOFFSETFROM:+1100
TZOFFSETTO:+1000
TZNAME:AEST
DTSTART:19700405T030000
RRULE:FREQ=YEARLY;BYMONTH=4;BYDAY=1SU
END:STANDARD
BEGIN:DAYLIGHT
TZOFFSETFROM:+1000
TZOFFSETTO:+1100
TZNAME:AEDT
DTSTART:19701004T020000
RRULE:FREQ=YEARLY;BYMONTH=10;BYDAY=1SU
END:DAYLIGHT
END:VTIMEZONE
CALSCALE:GREGORIAN
X-WR-TIMEZONE:Australia/Sydney
BEGIN:VEVENT
DTSTART;TZID=Australia/Sydney:20200305T091000
DTEND;TZID=Australia/Sydney:20200305T101000
DTSTAMP:20200305T000000Z
UID:40cf31f3-7688-4eee-a052-d5362e5c73b9
LOCATION:Staffroom
SUMMARY;LANGUAGE=en-us:P&C AGM 
SEQUENCE:0
DESCRIPTION:P&C AGM ? 9.10am
END:VEVENT
TRANSP:TRANSPARENT
END:VCALENDAR
