BEGIN:VCALENDAR
VERSION:2.0
PRODID:-//Department Of Education//5d8f11a1-bcd5-4b00-89cc-b84e00d7209a
BEGIN:VTIMEZONE
TZID:Australia/Sydney
TZURL:http://tzurl.org/zoneinfo-outlook/Australia/Sydney
X-LIC-LOCATION:Australia/Sydney
BEGIN:STANDARD
TZOFFSETFROM:+1100
TZOFFSETTO:+1000
TZNAME:AEST
DTSTART:19700405T030000
RRULE:FREQ=YEARLY;BYMONTH=4;BYDAY=1SU
END:STANDARD
BEGIN:DAYLIGHT
TZOFFSETFROM:+1000
TZOFFSETTO:+1100
TZNAME:AEDT
DTSTART:19701004T020000
RRULE:FREQ=YEARLY;BYMONTH=10;BYDAY=1SU
END:DAYLIGHT
END:VTIMEZONE
CALSCALE:GREGORIAN
X-WR-TIMEZONE:Australia/Sydney
BEGIN:VEVENT
DTSTART;VALUE=DATE:20200302
DTEND;VALUE=DATE:20200314
DTSTAMP:20200302T000000Z
UID:bc0b3b40-e105-4d94-82e8-60043e02d9e3
LOCATION:FIN Aquatics and Recreational Centre
SUMMARY;LANGUAGE=en-us:Swimming and Water Safety Program Years 2-6
SEQUENCE:0
DESCRIPTION:Swimming and Water Safety Program Years 2-6
END:VEVENT
TRANSP:TRANSPARENT
END:VCALENDAR
