BEGIN:VCALENDAR
VERSION:2.0
PRODID:-//Department Of Education//1ed8f833-386f-4775-ac3e-54c83165de22
BEGIN:VTIMEZONE
TZID:Australia/Sydney
TZURL:http://tzurl.org/zoneinfo-outlook/Australia/Sydney
X-LIC-LOCATION:Australia/Sydney
BEGIN:STANDARD
TZOFFSETFROM:+1100
TZOFFSETTO:+1000
TZNAME:AEST
DTSTART:19700405T030000
RRULE:FREQ=YEARLY;BYMONTH=4;BYDAY=1SU
END:STANDARD
BEGIN:DAYLIGHT
TZOFFSETFROM:+1000
TZOFFSETTO:+1100
TZNAME:AEDT
DTSTART:19701004T020000
RRULE:FREQ=YEARLY;BYMONTH=10;BYDAY=1SU
END:DAYLIGHT
END:VTIMEZONE
CALSCALE:GREGORIAN
X-WR-TIMEZONE:Australia/Sydney
BEGIN:VEVENT
DTSTART;TZID=Australia/Sydney:20190529T110000
DTEND;TZID=Australia/Sydney:20190529T140000
DTSTAMP:20190529T000000Z
UID:85ea9d51-4338-4155-955c-1f8c5d3ca0b8
LOCATION:Brenan Park 
SUMMARY;LANGUAGE=en-us:Horsley Zone Cross Country
SEQUENCE:0
DESCRIPTION:Horsley Zone Cross Country
END:VEVENT
TRANSP:TRANSPARENT
END:VCALENDAR
